BEGIN:VCALENDAR
VERSION:2.0
PRODID:-//Ava Valianti - singer-songwriter - ECPv6.15.20//NONSGML v1.0//EN
CALSCALE:GREGORIAN
METHOD:PUBLISH
X-WR-CALNAME:Ava Valianti - singer-songwriter
X-ORIGINAL-URL:https://avavaliantimusic.com
X-WR-CALDESC:Events for Ava Valianti - singer-songwriter
REFRESH-INTERVAL;VALUE=DURATION:PT1H
X-Robots-Tag:noindex
X-PUBLISHED-TTL:PT1H
BEGIN:VTIMEZONE
TZID:America/New_York
BEGIN:DAYLIGHT
TZOFFSETFROM:-0500
TZOFFSETTO:-0400
TZNAME:EDT
DTSTART:20250309T070000
END:DAYLIGHT
BEGIN:STANDARD
TZOFFSETFROM:-0400
TZOFFSETTO:-0500
TZNAME:EST
DTSTART:20251102T060000
END:STANDARD
BEGIN:DAYLIGHT
TZOFFSETFROM:-0500
TZOFFSETTO:-0400
TZNAME:EDT
DTSTART:20260308T070000
END:DAYLIGHT
BEGIN:STANDARD
TZOFFSETFROM:-0400
TZOFFSETTO:-0500
TZNAME:EST
DTSTART:20261101T060000
END:STANDARD
BEGIN:DAYLIGHT
TZOFFSETFROM:-0500
TZOFFSETTO:-0400
TZNAME:EDT
DTSTART:20270314T070000
END:DAYLIGHT
BEGIN:STANDARD
TZOFFSETFROM:-0400
TZOFFSETTO:-0500
TZNAME:EST
DTSTART:20271107T060000
END:STANDARD
END:VTIMEZONE
BEGIN:VEVENT
DTSTART;TZID=America/New_York:20260206T190000
DTEND;TZID=America/New_York:20260206T220000
DTSTAMP:20260422T161421
CREATED:20251204T201224Z
LAST-MODIFIED:20251227T195917Z
UID:3842-1770404400-1770415200@avavaliantimusic.com
SUMMARY:Gavin Marengi Unplugged - featuring Ava Valianti
DESCRIPTION:Come see Ava as she opens for country music singer-songwriter Gavin Marengi at the Firehouse Center for the Arts in Newburyport!
URL:https://avavaliantimusic.com/show/gavin-marengi-unplugged-featuring-ava-valianti/
LOCATION:Firehouse Center for the Arts\, Market Square\, Newburyport\, Massachusetts\, 01950\, United States
ATTACH;FMTTYPE=image/png:https://avavaliantimusic.com/wp-content/uploads/2025/12/Ava-Valianti.png
END:VEVENT
END:VCALENDAR