BEGIN:VCALENDAR
VERSION:2.0
PRODID:-//Ava Valianti - singer-songwriter - ECPv6.15.20//NONSGML v1.0//EN
CALSCALE:GREGORIAN
METHOD:PUBLISH
X-WR-CALNAME:Ava Valianti - singer-songwriter
X-ORIGINAL-URL:https://avavaliantimusic.com
X-WR-CALDESC:Events for Ava Valianti - singer-songwriter
REFRESH-INTERVAL;VALUE=DURATION:PT1H
X-Robots-Tag:noindex
X-PUBLISHED-TTL:PT1H
BEGIN:VTIMEZONE
TZID:America/New_York
BEGIN:DAYLIGHT
TZOFFSETFROM:-0500
TZOFFSETTO:-0400
TZNAME:EDT
DTSTART:20230312T070000
END:DAYLIGHT
BEGIN:STANDARD
TZOFFSETFROM:-0400
TZOFFSETTO:-0500
TZNAME:EST
DTSTART:20231105T060000
END:STANDARD
BEGIN:DAYLIGHT
TZOFFSETFROM:-0500
TZOFFSETTO:-0400
TZNAME:EDT
DTSTART:20240310T070000
END:DAYLIGHT
BEGIN:STANDARD
TZOFFSETFROM:-0400
TZOFFSETTO:-0500
TZNAME:EST
DTSTART:20241103T060000
END:STANDARD
BEGIN:DAYLIGHT
TZOFFSETFROM:-0500
TZOFFSETTO:-0400
TZNAME:EDT
DTSTART:20250309T070000
END:DAYLIGHT
BEGIN:STANDARD
TZOFFSETFROM:-0400
TZOFFSETTO:-0500
TZNAME:EST
DTSTART:20251102T060000
END:STANDARD
END:VTIMEZONE
BEGIN:VEVENT
DTSTART;TZID=America/New_York:20241209T190000
DTEND;TZID=America/New_York:20241209T190000
DTSTAMP:20260423T130916
CREATED:20250509T141038Z
LAST-MODIFIED:20250509T141041Z
UID:3323-1733770800-1733770800@avavaliantimusic.com
SUMMARY:National Anthem for Boston College Eagles Hockey Game
DESCRIPTION:Performed the National Anthem at a BC Eagles Hockey Game in Chestnut Hill\, MA.
URL:https://avavaliantimusic.com/show/national-anthem-for-boston-college-eagles-hockey-game/
LOCATION:Boston College\, 140 Commonwealth Avenue\, Chestnut Hill\, Massachusetts
END:VEVENT
END:VCALENDAR