BEGIN:VCALENDAR
VERSION:2.0
PRODID:-//Ava Valianti - singer-songwriter - ECPv6.15.20//NONSGML v1.0//EN
CALSCALE:GREGORIAN
METHOD:PUBLISH
X-WR-CALNAME:Ava Valianti - singer-songwriter
X-ORIGINAL-URL:https://avavaliantimusic.com
X-WR-CALDESC:Events for Ava Valianti - singer-songwriter
REFRESH-INTERVAL;VALUE=DURATION:PT1H
X-Robots-Tag:noindex
X-PUBLISHED-TTL:PT1H
BEGIN:VTIMEZONE
TZID:America/New_York
BEGIN:DAYLIGHT
TZOFFSETFROM:-0500
TZOFFSETTO:-0400
TZNAME:EDT
DTSTART:20240310T070000
END:DAYLIGHT
BEGIN:STANDARD
TZOFFSETFROM:-0400
TZOFFSETTO:-0500
TZNAME:EST
DTSTART:20241103T060000
END:STANDARD
BEGIN:DAYLIGHT
TZOFFSETFROM:-0500
TZOFFSETTO:-0400
TZNAME:EDT
DTSTART:20250309T070000
END:DAYLIGHT
BEGIN:STANDARD
TZOFFSETFROM:-0400
TZOFFSETTO:-0500
TZNAME:EST
DTSTART:20251102T060000
END:STANDARD
BEGIN:DAYLIGHT
TZOFFSETFROM:-0500
TZOFFSETTO:-0400
TZNAME:EDT
DTSTART:20260308T070000
END:DAYLIGHT
BEGIN:STANDARD
TZOFFSETFROM:-0400
TZOFFSETTO:-0500
TZNAME:EST
DTSTART:20261101T060000
END:STANDARD
END:VTIMEZONE
BEGIN:VEVENT
DTSTART;TZID=America/New_York:20250514T190000
DTEND;TZID=America/New_York:20250514T223000
DTSTAMP:20260423T125620
CREATED:20250509T124702Z
LAST-MODIFIED:20250509T185819Z
UID:3249-1747249200-1747261800@avavaliantimusic.com
SUMMARY:Opening Act For Jessica Baio
DESCRIPTION:Come see Ava open for Jessica Baio at the Brighton Music Hall! Doors open at 7pm\, Ava performs at 8pm! Tickets at “Find Out More”.
URL:https://avavaliantimusic.com/show/opening-act-for-jessica-baio/
LOCATION:Brighton Music Hall\, 158 Brighton Avenue\, Allston\, MA\, 02134\, United States
ATTACH;FMTTYPE=image/jpeg:https://avavaliantimusic.com/wp-content/uploads/2025/05/Jessica-Baio.jpg
END:VEVENT
END:VCALENDAR