BEGIN:VCALENDAR
VERSION:2.0
PRODID:-//Ava Valianti - singer-songwriter - ECPv6.15.20//NONSGML v1.0//EN
CALSCALE:GREGORIAN
METHOD:PUBLISH
X-WR-CALNAME:Ava Valianti - singer-songwriter
X-ORIGINAL-URL:https://avavaliantimusic.com
X-WR-CALDESC:Events for Ava Valianti - singer-songwriter
REFRESH-INTERVAL;VALUE=DURATION:PT1H
X-Robots-Tag:noindex
X-PUBLISHED-TTL:PT1H
BEGIN:VTIMEZONE
TZID:America/New_York
BEGIN:DAYLIGHT
TZOFFSETFROM:-0500
TZOFFSETTO:-0400
TZNAME:EDT
DTSTART:20240310T070000
END:DAYLIGHT
BEGIN:STANDARD
TZOFFSETFROM:-0400
TZOFFSETTO:-0500
TZNAME:EST
DTSTART:20241103T060000
END:STANDARD
BEGIN:DAYLIGHT
TZOFFSETFROM:-0500
TZOFFSETTO:-0400
TZNAME:EDT
DTSTART:20250309T070000
END:DAYLIGHT
BEGIN:STANDARD
TZOFFSETFROM:-0400
TZOFFSETTO:-0500
TZNAME:EST
DTSTART:20251102T060000
END:STANDARD
BEGIN:DAYLIGHT
TZOFFSETFROM:-0500
TZOFFSETTO:-0400
TZNAME:EDT
DTSTART:20260308T070000
END:DAYLIGHT
BEGIN:STANDARD
TZOFFSETFROM:-0400
TZOFFSETTO:-0500
TZNAME:EST
DTSTART:20261101T060000
END:STANDARD
END:VTIMEZONE
BEGIN:VEVENT
DTSTART;TZID=America/New_York:20250821T190000
DTEND;TZID=America/New_York:20250821T220000
DTSTAMP:20260423T130039
CREATED:20250629T135119Z
LAST-MODIFIED:20250629T135122Z
UID:3528-1755802800-1755813600@avavaliantimusic.com
SUMMARY:Opening for Andrew Duhon - Prescott Park Arts Festival Concert Series
DESCRIPTION:See Ava as the opener for Nashville singer-songwriter Andrew Duhon at the Prescott Park Arts Festival Concert Series in Portsmouth!
URL:https://avavaliantimusic.com/show/opening-for-andrew-duhon-prescott-park-arts-festival-concert-series/
LOCATION:Prescott Park Arts Festival\, 105 Marcy Street\, Portsmouth\, New Hampshire\, 03801\, United States
ATTACH;FMTTYPE=image/jpeg:https://avavaliantimusic.com/wp-content/uploads/2025/06/SUMMER-2025-1.jpg
END:VEVENT
END:VCALENDAR