BEGIN:VCALENDAR
VERSION:2.0
PRODID:-//Ava Valianti - singer-songwriter - ECPv6.15.20//NONSGML v1.0//EN
CALSCALE:GREGORIAN
METHOD:PUBLISH
X-WR-CALNAME:Ava Valianti - singer-songwriter
X-ORIGINAL-URL:https://avavaliantimusic.com
X-WR-CALDESC:Events for Ava Valianti - singer-songwriter
REFRESH-INTERVAL;VALUE=DURATION:PT1H
X-Robots-Tag:noindex
X-PUBLISHED-TTL:PT1H
BEGIN:VTIMEZONE
TZID:America/New_York
BEGIN:DAYLIGHT
TZOFFSETFROM:-0500
TZOFFSETTO:-0400
TZNAME:EDT
DTSTART:20240310T070000
END:DAYLIGHT
BEGIN:STANDARD
TZOFFSETFROM:-0400
TZOFFSETTO:-0500
TZNAME:EST
DTSTART:20241103T060000
END:STANDARD
BEGIN:DAYLIGHT
TZOFFSETFROM:-0500
TZOFFSETTO:-0400
TZNAME:EDT
DTSTART:20250309T070000
END:DAYLIGHT
BEGIN:STANDARD
TZOFFSETFROM:-0400
TZOFFSETTO:-0500
TZNAME:EST
DTSTART:20251102T060000
END:STANDARD
BEGIN:DAYLIGHT
TZOFFSETFROM:-0500
TZOFFSETTO:-0400
TZNAME:EDT
DTSTART:20260308T070000
END:DAYLIGHT
BEGIN:STANDARD
TZOFFSETFROM:-0400
TZOFFSETTO:-0500
TZNAME:EST
DTSTART:20261101T060000
END:STANDARD
END:VTIMEZONE
BEGIN:VEVENT
DTSTART;TZID=America/New_York:20250205T120000
DTEND;TZID=America/New_York:20250205T130000
DTSTAMP:20260422T161258
CREATED:20250509T135712Z
LAST-MODIFIED:20250509T135714Z
UID:3315-1738756800-1738760400@avavaliantimusic.com
SUMMARY:WERS 88.9FM - Wicked Local Wednesday
DESCRIPTION:Performed live at the Wicked Local Wednesday segment on WERS 88.9FM
URL:https://avavaliantimusic.com/show/wers-88-9fm-wicked-local-wednesday/
LOCATION:50 Water Street\, Newburyport\, MA 01950
END:VEVENT
END:VCALENDAR