BEGIN:VCALENDAR
VERSION:2.0
PRODID:-//Ava Valianti - singer-songwriter - ECPv6.15.20//NONSGML v1.0//EN
CALSCALE:GREGORIAN
METHOD:PUBLISH
X-WR-CALNAME:Ava Valianti - singer-songwriter
X-ORIGINAL-URL:https://avavaliantimusic.com
X-WR-CALDESC:Events for Ava Valianti - singer-songwriter
REFRESH-INTERVAL;VALUE=DURATION:PT1H
X-Robots-Tag:noindex
X-PUBLISHED-TTL:PT1H
BEGIN:VTIMEZONE
TZID:America/New_York
BEGIN:DAYLIGHT
TZOFFSETFROM:-0500
TZOFFSETTO:-0400
TZNAME:EDT
DTSTART:20240310T070000
END:DAYLIGHT
BEGIN:STANDARD
TZOFFSETFROM:-0400
TZOFFSETTO:-0500
TZNAME:EST
DTSTART:20241103T060000
END:STANDARD
BEGIN:DAYLIGHT
TZOFFSETFROM:-0500
TZOFFSETTO:-0400
TZNAME:EDT
DTSTART:20250309T070000
END:DAYLIGHT
BEGIN:STANDARD
TZOFFSETFROM:-0400
TZOFFSETTO:-0500
TZNAME:EST
DTSTART:20251102T060000
END:STANDARD
BEGIN:DAYLIGHT
TZOFFSETFROM:-0500
TZOFFSETTO:-0400
TZNAME:EDT
DTSTART:20260308T070000
END:DAYLIGHT
BEGIN:STANDARD
TZOFFSETFROM:-0400
TZOFFSETTO:-0500
TZNAME:EST
DTSTART:20261101T060000
END:STANDARD
END:VTIMEZONE
BEGIN:VEVENT
DTSTART;TZID=America/New_York:20250726T180000
DTEND;TZID=America/New_York:20250726T210000
DTSTAMP:20260422T154946
CREATED:20250620T181458Z
LAST-MODIFIED:20250721T132156Z
UID:3513-1753552800-1753563600@avavaliantimusic.com
SUMMARY:Yankee Homecoming - Battle of the Bands
DESCRIPTION:Come cheer Ava on as she performs at the Yankee Homecoming Battle of the Bands on the Waterfront Stage in Newburyport!
URL:https://avavaliantimusic.com/show/yankee-homecoming-battle-of-the-bands/
LOCATION:Waterfront Stage\, Newburyport\, Massachusetts\, 01950\, United States
ATTACH;FMTTYPE=image/png:https://avavaliantimusic.com/wp-content/uploads/2025/06/Yankee-Homecoming-Battle-of-the-Bands-Saturday-July-26-6pm-Waterfront-Stage-Newburyport-Need-something-about-how-audience-decides-winner-AcousticSolo-category.zip-2.png
END:VEVENT
END:VCALENDAR