BEGIN:VCALENDAR
VERSION:2.0
PRODID:-//Ava Valianti - singer-songwriter - ECPv6.15.20//NONSGML v1.0//EN
CALSCALE:GREGORIAN
METHOD:PUBLISH
X-WR-CALNAME:Ava Valianti - singer-songwriter
X-ORIGINAL-URL:https://avavaliantimusic.com
X-WR-CALDESC:Events for Ava Valianti - singer-songwriter
REFRESH-INTERVAL;VALUE=DURATION:PT1H
X-Robots-Tag:noindex
X-PUBLISHED-TTL:PT1H
BEGIN:VTIMEZONE
TZID:America/New_York
BEGIN:DAYLIGHT
TZOFFSETFROM:-0500
TZOFFSETTO:-0400
TZNAME:EDT
DTSTART:20240310T070000
END:DAYLIGHT
BEGIN:STANDARD
TZOFFSETFROM:-0400
TZOFFSETTO:-0500
TZNAME:EST
DTSTART:20241103T060000
END:STANDARD
BEGIN:DAYLIGHT
TZOFFSETFROM:-0500
TZOFFSETTO:-0400
TZNAME:EDT
DTSTART:20250309T070000
END:DAYLIGHT
BEGIN:STANDARD
TZOFFSETFROM:-0400
TZOFFSETTO:-0500
TZNAME:EST
DTSTART:20251102T060000
END:STANDARD
BEGIN:DAYLIGHT
TZOFFSETFROM:-0500
TZOFFSETTO:-0400
TZNAME:EDT
DTSTART:20260308T070000
END:DAYLIGHT
BEGIN:STANDARD
TZOFFSETFROM:-0400
TZOFFSETTO:-0500
TZNAME:EST
DTSTART:20261101T060000
END:STANDARD
END:VTIMEZONE
BEGIN:VEVENT
DTSTART;TZID=America/New_York:20250727T123000
DTEND;TZID=America/New_York:20250727T133000
DTSTAMP:20260422T160807
CREATED:20250508T194855Z
LAST-MODIFIED:20250721T132255Z
UID:3110-1753619400-1753623000@avavaliantimusic.com
SUMMARY:Yankee Homecoming
DESCRIPTION:Come join us in downtown Newburyport during this year’s Yankee Homecoming week at the Market Square Music Tent!
URL:https://avavaliantimusic.com/show/yankee-homecoming/
LOCATION:Yankee Homecoming\, Market Street\, Newburyport\, MA\, United States
ATTACH;FMTTYPE=image/png:https://avavaliantimusic.com/wp-content/uploads/2025/05/Yankee-Homecoming-Battle-of-the-Bands-Saturday-July-26-6pm-Waterfront-Stage-Newburyport-Need-something-about-how-audience-decides-winner-AcousticSolo-category.zip-1.png
END:VEVENT
END:VCALENDAR