BEGIN:VCALENDAR
VERSION:2.0
PRODID:-//Ava Valianti - singer-songwriter - ECPv6.15.20//NONSGML v1.0//EN
CALSCALE:GREGORIAN
METHOD:PUBLISH
X-WR-CALNAME:Ava Valianti - singer-songwriter
X-ORIGINAL-URL:https://avavaliantimusic.com
X-WR-CALDESC:Events for Ava Valianti - singer-songwriter
REFRESH-INTERVAL;VALUE=DURATION:PT1H
X-Robots-Tag:noindex
X-PUBLISHED-TTL:PT1H
BEGIN:VTIMEZONE
TZID:America/New_York
BEGIN:DAYLIGHT
TZOFFSETFROM:-0500
TZOFFSETTO:-0400
TZNAME:EDT
DTSTART:20250309T070000
END:DAYLIGHT
BEGIN:STANDARD
TZOFFSETFROM:-0400
TZOFFSETTO:-0500
TZNAME:EST
DTSTART:20251102T060000
END:STANDARD
BEGIN:DAYLIGHT
TZOFFSETFROM:-0500
TZOFFSETTO:-0400
TZNAME:EDT
DTSTART:20260308T070000
END:DAYLIGHT
BEGIN:STANDARD
TZOFFSETFROM:-0400
TZOFFSETTO:-0500
TZNAME:EST
DTSTART:20261101T060000
END:STANDARD
BEGIN:DAYLIGHT
TZOFFSETFROM:-0500
TZOFFSETTO:-0400
TZNAME:EDT
DTSTART:20270314T070000
END:DAYLIGHT
BEGIN:STANDARD
TZOFFSETFROM:-0400
TZOFFSETTO:-0500
TZNAME:EST
DTSTART:20271107T060000
END:STANDARD
END:VTIMEZONE
BEGIN:VEVENT
DTSTART;TZID=America/New_York:20260430T190000
DTEND;TZID=America/New_York:20260430T210000
DTSTAMP:20260423T085318
CREATED:20260413T175246Z
LAST-MODIFIED:20260413T175248Z
UID:4066-1777575600-1777582800@avavaliantimusic.com
SUMMARY:Bar 25
DESCRIPTION:Come see Ava live at Bar 25 in Newburyport in the 3rd floor piano lounge! Reservations recommended.
URL:https://avavaliantimusic.com/show/bar-25-7/
LOCATION:Bar 25\, 38 State Street\, Newburyport\, Massachusetts
ATTACH;FMTTYPE=image/png:https://avavaliantimusic.com/wp-content/uploads/2026/04/Ava.png
END:VEVENT
BEGIN:VEVENT
DTSTART;TZID=America/New_York:20260501T193000
DTEND;TZID=America/New_York:20260501T213000
DTSTAMP:20260423T085318
CREATED:20260321T135553Z
LAST-MODIFIED:20260413T175002Z
UID:4007-1777663800-1777671000@avavaliantimusic.com
SUMMARY:Metzy's Cantina
DESCRIPTION:Come see Ava live at Metzy’s in Newburyport\, MA on Friday\, May 1st! Reservations recommended!
URL:https://avavaliantimusic.com/show/metzys-cantina-10/
LOCATION:Metzy’s Cantina\, 5 Boston Way\, Newburyport\, MA
ATTACH;FMTTYPE=image/png:https://avavaliantimusic.com/wp-content/uploads/2026/03/Metzys-May-1-730-930PM-NBPT-Square-Pillow.png
END:VEVENT
BEGIN:VEVENT
DTSTART;TZID=America/New_York:20260612T190000
DTEND;TZID=America/New_York:20260612T210000
DTSTAMP:20260423T085318
CREATED:20260223T205913Z
LAST-MODIFIED:20260223T205914Z
UID:3982-1781290800-1781298000@avavaliantimusic.com
SUMMARY:Newburyport Pride Week Concert
DESCRIPTION:Ava will be the headliner at The Space @ZDFM as part of the celebration of Newburyport Pride Week. More information to come.
URL:https://avavaliantimusic.com/show/newburyport-pride-week-concert/
LOCATION:New York
END:VEVENT
BEGIN:VEVENT
DTSTART;TZID=America/New_York:20260619T213000
DTEND;TZID=America/New_York:20260619T223000
DTSTAMP:20260423T085318
CREATED:20260417T155701Z
LAST-MODIFIED:20260417T155709Z
UID:4069-1781904600-1781908200@avavaliantimusic.com
SUMMARY:Reverie Room
DESCRIPTION:Come see Ava live at the Reverie Room in NYC! Tickets are $20 with $10 drink & snack minimum. All ages – no alcohol at venue. Ticket link coming soon.
URL:https://avavaliantimusic.com/show/reverie-room/
LOCATION:Reverie Room\, 163 W 72nd Street\, New York\, New York\, United States
END:VEVENT
BEGIN:VEVENT
DTSTART;TZID=America/New_York:20260913T130000
DTEND;TZID=America/New_York:20260913T140000
DTSTAMP:20260423T085318
CREATED:20260207T220355Z
LAST-MODIFIED:20260219T132116Z
UID:3963-1789304400-1789308000@avavaliantimusic.com
SUMMARY:Boston Arts Festival
DESCRIPTION:Ava will be performing live at the 2026 Boston Arts Festival in Christopher Columbus Park in Boston.
URL:https://avavaliantimusic.com/show/boston-arts-festival-2/
LOCATION:New York
END:VEVENT
END:VCALENDAR